BEGIN:VCALENDAR
VERSION:2.0
PRODID:-//Contratero//ES
CALSCALE:GREGORIAN
METHOD:PUBLISH
BEGIN:VEVENT
UID:PA 91/2025@contratero.es
DTSTAMP:20260420T030402Z
DTSTART:20250917T235959
DTEND:20250918T005959
SUMMARY:Cierre: Servicio de Gestión de las Redes Sociales Gestiona
DESCRIPTION:Servicio de Gestión de las Redes Sociales Gestionadas desde la Concejalía de Bienestar del Ayuntamiento de Torrejón de Ardoz\, así como el diseño de los contenidos web y de redes sociales de las Cuenta...\\n\\nOrganismo: Junta de Gobierno del Ayuntamiento de Torrejón de Ardoz\\n\\nVer en Contratero: https://contratero.es/contracts/PA 91/2025
URL:https://contratero.es/contracts/PA 91/2025
STATUS:CONFIRMED
BEGIN:VALARM
TRIGGER:-P1D
ACTION:DISPLAY
DESCRIPTION:Recordatorio: Servicio de Gestión de las Red
END:VALARM
END:VEVENT
END:VCALENDAR